BEGIN:VCALENDAR
VERSION:2.0
PRODID:Events Booking
BEGIN:VEVENT
UID:69e5ff8bf3a47
SUMMARY:Offene Männergruppe
DESCRIPTION:In dieser offenen Männergrupppe haben Männer die Gelegenheit 
 für eine eigene Selbstbegegung. Frau sind als Teilnehmerinnen ebenso will
 kommen.
LOCATION:Englmannstraße 2\, 81673 München
DTSTART:20260520T070000Z
DTEND:20260520T160000Z
DTSTAMP:20260409T190628Z
ORGANIZER;CN=Prof. Franz Ruppert:MAILTO:anmeldung@franz-ruppert.de
GEO:48.130697;11.628223
X-APPLE-STRUCTURED-LOCATION;VALUE=URI;X-ADDRESS=Englmannstraße 2\, 81673 M
 ünchen;X-APPLE-RADIUS=72;X-TITLE=Praxis Prof. Dr. Franz Ruppert:48.130697
 ;11.628223
END:VEVENT
END:VCALENDAR